BEGIN:VCALENDAR
VERSION:2.0
PRODID:-//Sabre//Sabre VObject 4.5.8//EN
CALSCALE:GREGORIAN
BEGIN:VEVENT
UID:sabre-vobject-898b8fcd-e09a-4ad0-9c00-34c846cee303
DTSTAMP:20260424T151751Z
SUMMARY:Heilige Messe für die Lebenden u. Verstorbenen der PG
DESCRIPTION:https://www2.bistum-augsburg.de/gottesdienste/heilige-messe-fue
 r-die-lebenden-u-verstorbenen-der-pg_id1721719
DTSTART;TZID=Europe/Berlin:20260524T100000
DURATION:PT30M
LOCATION:St. Michael
END:VEVENT
END:VCALENDAR
