BEGIN:VCALENDAR
VERSION:2.0
PRODID:-//Sabre//Sabre VObject 4.5.8//EN
CALSCALE:GREGORIAN
BEGIN:VEVENT
UID:sabre-vobject-2ddefcce-7b00-4f5b-893f-20a375f99a19
DTSTAMP:20260420T174807Z
SUMMARY:Heilige Messe
DESCRIPTION:https://www2.bistum-augsburg.de/gottesdienste/heilige-messe_id1
 721723
DTSTART;TZID=Europe/Berlin:20260421T180000
DURATION:PT30M
LOCATION:Kuratie St. Leonhard
END:VEVENT
END:VCALENDAR
