BEGIN:VCALENDAR
VERSION:2.0
PRODID:-//Sabre//Sabre VObject 4.5.8//EN
CALSCALE:GREGORIAN
BEGIN:VEVENT
UID:sabre-vobject-ebf8780c-2d97-4c37-9a58-5afada671735
DTSTAMP:20260424T185455Z
SUMMARY:Mairosenkranz
DESCRIPTION:https://www2.bistum-augsburg.de/gottesdienste/mairosenkranz_id1
 721732
DTSTART;TZID=Europe/Berlin:20260504T180000
DURATION:PT30M
LOCATION:Mariä Himmelfahrt
END:VEVENT
END:VCALENDAR
