BEGIN:VCALENDAR
VERSION:2.0
PRODID:-//Sabre//Sabre VObject 4.5.8//EN
CALSCALE:GREGORIAN
BEGIN:VEVENT
UID:sabre-vobject-447533a9-c8e9-40f2-90ac-dd69b254813c
DTSTAMP:20260422T211835Z
SUMMARY:Rosenkranz für die Kranken in unserer Pfarrei
DESCRIPTION:https://www2.bistum-augsburg.de/gottesdienste/rosenkranz-fuer-d
 ie-kranken-in-unserer-pfarrei_id1721762
DTSTART;TZID=Europe/Berlin:20260424T160000
DURATION:PT30M
LOCATION:St. Johannes Baptist\, St.-Johannes-Straße 3\, 87650 Baisweil
END:VEVENT
END:VCALENDAR
