BEGIN:VCALENDAR
VERSION:2.0
PRODID:-//Sabre//Sabre VObject 4.5.8//EN
CALSCALE:GREGORIAN
BEGIN:VEVENT
UID:sabre-vobject-313b7e8e-d094-4535-8e6c-87af16b389ab
DTSTAMP:20260423T021512Z
SUMMARY:Hl. Messopfer
DESCRIPTION:https://www2.bistum-augsburg.de/gottesdienste/hl-messopfer_id17
 21819
DTSTART;TZID=Europe/Berlin:20260425T073000
DURATION:PT30M
LOCATION:Wallfahrtsdirektion Mariä Schmerzen
END:VEVENT
END:VCALENDAR
