BEGIN:VCALENDAR
VERSION:2.0
PRODID:-//Sabre//Sabre VObject 4.5.8//EN
CALSCALE:GREGORIAN
BEGIN:VEVENT
UID:sabre-vobject-12fe826a-8a12-4d48-a45e-0dff6abb30d7
DTSTAMP:20260419T173227Z
SUMMARY:Hl. Messe mit Laudes
DESCRIPTION:https://www2.bistum-augsburg.de/gottesdienste/hl-messe-mit-laud
 es_id1721960
DTSTART;TZID=Europe/Berlin:20260502T070000
DURATION:PT30M
LOCATION:St. Michael\, Kirchpl. \, 86415 Mering
END:VEVENT
END:VCALENDAR
