BEGIN:VCALENDAR
VERSION:2.0
PRODID:-//Sabre//Sabre VObject 4.5.8//EN
CALSCALE:GREGORIAN
BEGIN:VEVENT
UID:sabre-vobject-c1559c01-5001-40b8-8372-f805dedbc371
DTSTAMP:20260424T112754Z
SUMMARY:Komplet und eucharistischer Segen
DESCRIPTION:https://www2.bistum-augsburg.de/gottesdienste/komplet-und-eucha
 ristischer-segen_id1721996
DTSTART;TZID=Europe/Berlin:20260507T200000
DURATION:PT30M
LOCATION:St. Michael\, Kirchpl. \, 86415 Mering
END:VEVENT
END:VCALENDAR
