BEGIN:VCALENDAR
VERSION:2.0
PRODID:-//Sabre//Sabre VObject 4.5.8//EN
CALSCALE:GREGORIAN
BEGIN:VEVENT
UID:sabre-vobject-1ede4563-8dbe-49a1-a0ef-e244f13283f5
DTSTAMP:20260426T031528Z
SUMMARY:Heilige Messe - Wir beten auch für unsere Geburtstags-Jubilare (Ma
 i).
DESCRIPTION:https://www2.bistum-augsburg.de/gottesdienste/heilige-messe-wir
 -beten-auch-fuer-unsere-geburtstags-jubilare-mai_id1722003
DTSTART;TZID=Europe/Berlin:20260521T190000
DURATION:PT30M
LOCATION:St. Peter
END:VEVENT
END:VCALENDAR
