BEGIN:VCALENDAR
VERSION:2.0
PRODID:-//Sabre//Sabre VObject 4.5.8//EN
CALSCALE:GREGORIAN
BEGIN:VEVENT
UID:sabre-vobject-1c2cf733-4e4d-4040-8893-c42bd9115ef5
DTSTAMP:20260424T175600Z
SUMMARY:Laudesgebet
DESCRIPTION:https://www2.bistum-augsburg.de/gottesdienste/laudesgebet_id172
 2019
DTSTART;TZID=Europe/Berlin:20260504T070000
DURATION:PT30M
LOCATION:St. Michael\, Kirchpl. \, 86415 Mering
END:VEVENT
END:VCALENDAR
