BEGIN:VCALENDAR
VERSION:2.0
PRODID:-//Sabre//Sabre VObject 4.5.8//EN
CALSCALE:GREGORIAN
BEGIN:VEVENT
UID:sabre-vobject-7512c67b-9de6-4a14-a23c-50a9d3174011
DTSTAMP:20260424T045535Z
SUMMARY:Rosenkranz
DESCRIPTION:https://www2.bistum-augsburg.de/gottesdienste/rosenkranz_id1722
 035
DTSTART;TZID=Europe/Berlin:20260430T080000
DURATION:PT30M
LOCATION:St. Walburga
END:VEVENT
END:VCALENDAR
