BEGIN:VCALENDAR
VERSION:2.0
PRODID:-//Sabre//Sabre VObject 4.5.8//EN
CALSCALE:GREGORIAN
BEGIN:VEVENT
UID:sabre-vobject-ba1c5ba7-d032-454e-b4d8-736256920134
DTSTAMP:20260420T155247Z
SUMMARY:Beichtgelegenheit (bis 12.00 Uhr)
DESCRIPTION:https://www2.bistum-augsburg.de/gottesdienste/beichtgelegenheit
 -bis-12-00-uhr_id1722040
DTSTART;TZID=Europe/Berlin:20260502T110000
DURATION:PT30M
LOCATION:St. Walburga
END:VEVENT
END:VCALENDAR
