BEGIN:VCALENDAR
VERSION:2.0
PRODID:-//Sabre//Sabre VObject 4.5.8//EN
CALSCALE:GREGORIAN
BEGIN:VEVENT
UID:sabre-vobject-bde35282-3f54-49ca-a6ca-9b31d66038f4
DTSTAMP:20260423T142546Z
SUMMARY:Beichtgelegenheit (bis 12.00 Uhr)
DESCRIPTION:https://www2.bistum-augsburg.de/gottesdienste/beichtgelegenheit
 -bis-12-00-uhr_id1722063
DTSTART;TZID=Europe/Berlin:20260425T110000
DURATION:PT30M
LOCATION:St. Walburga
END:VEVENT
END:VCALENDAR
