BEGIN:VCALENDAR
VERSION:2.0
PRODID:-//Sabre//Sabre VObject 4.5.8//EN
CALSCALE:GREGORIAN
BEGIN:VEVENT
UID:sabre-vobject-971a1aa5-b970-498e-a94f-f0395f73de5f
DTSTAMP:20260419T190314Z
SUMMARY:Taufe von Ariana Schindler
DESCRIPTION:https://www2.bistum-augsburg.de/gottesdienste/taufe-von-ariana-
 schindler_id1722066
DTSTART;TZID=Europe/Berlin:20260426T113000
DURATION:PT30M
LOCATION:St. Ulrich
END:VEVENT
END:VCALENDAR
