BEGIN:VCALENDAR
VERSION:2.0
PRODID:-//Sabre//Sabre VObject 4.5.8//EN
CALSCALE:GREGORIAN
BEGIN:VEVENT
UID:sabre-vobject-1d882c5e-d200-4ef2-991a-0c11e82593c6
DTSTAMP:20260419T153103Z
SUMMARY:Abholung der Kommunionkinder an der Schule\, anschl. Erstkommunionf
 eier
DESCRIPTION:https://www2.bistum-augsburg.de/gottesdienste/abholung-der-komm
 unionkinder-an-der-schule-anschl-erstkommunionfeier_id1722083
DTSTART;TZID=Europe/Berlin:20260426T095000
DURATION:PT30M
LOCATION:St. Sebastian
END:VEVENT
END:VCALENDAR
