BEGIN:VCALENDAR
VERSION:2.0
PRODID:-//Sabre//Sabre VObject 4.5.8//EN
CALSCALE:GREGORIAN
BEGIN:VEVENT
UID:sabre-vobject-b9219a38-8185-4c2f-ac00-035f986a7a61
DTSTAMP:20260424T114936Z
SUMMARY:Maiandacht
DESCRIPTION:https://www2.bistum-augsburg.de/gottesdienste/maiandacht_id1722
 086
DTSTART;TZID=Europe/Berlin:20260512T183000
DURATION:PT30M
LOCATION:St. Martin
END:VEVENT
END:VCALENDAR
