BEGIN:VCALENDAR
VERSION:2.0
PRODID:-//Sabre//Sabre VObject 4.5.8//EN
CALSCALE:GREGORIAN
BEGIN:VEVENT
UID:sabre-vobject-c455a104-5daf-454b-9ee7-89e37d2fd50e
DTSTAMP:20260425T000158Z
SUMMARY:Halbzeitpause - Wortgottesfeier zu Himmelfahrt
DESCRIPTION:https://www2.bistum-augsburg.de/gottesdienste/halbzeitpause-wor
 tgottesfeier-zu-himmelfahrt_id1722088
DTSTART;TZID=Europe/Berlin:20260513T183000
DURATION:PT30M
LOCATION:St. Martin
END:VEVENT
END:VCALENDAR
