BEGIN:VCALENDAR
VERSION:2.0
PRODID:-//Sabre//Sabre VObject 4.5.8//EN
CALSCALE:GREGORIAN
BEGIN:VEVENT
UID:sabre-vobject-b11c81ad-8fe1-49fd-9037-2ec3366e171d
DTSTAMP:20260423T211331Z
SUMMARY:Laudes (kirchliches Morgengebet)
DESCRIPTION:https://www2.bistum-augsburg.de/gottesdienste/laudes-kirchliche
 s-morgengebet_id1722103
DTSTART;TZID=Europe/Berlin:20260512T060000
DURATION:PT30M
LOCATION:St. Vitus\, Augsburger Str. 32\, 86462 Langweid
END:VEVENT
END:VCALENDAR
