BEGIN:VCALENDAR
VERSION:2.0
PRODID:-//Sabre//Sabre VObject 4.5.8//EN
CALSCALE:GREGORIAN
BEGIN:VEVENT
UID:sabre-vobject-824ee6b4-e597-4375-9101-5ecc3b039406
DTSTAMP:20260424T064437Z
SUMMARY:Bittgang zum Kolpingkreuz
DESCRIPTION:https://www2.bistum-augsburg.de/gottesdienste/bittgang-zum-kolp
 ingkreuz_id1722126
DTSTART;TZID=Europe/Berlin:20260511T183000
DURATION:PT30M
LOCATION:St. Felizitas
END:VEVENT
END:VCALENDAR
