BEGIN:VCALENDAR
VERSION:2.0
PRODID:-//Sabre//Sabre VObject 4.5.8//EN
CALSCALE:GREGORIAN
BEGIN:VEVENT
UID:sabre-vobject-6c2bac73-ae5f-4509-9262-9a7a1c5033b2
DTSTAMP:20260424T225040Z
SUMMARY:Heilige Messe\, anschließend Konvent der Marianischen Männerkongr
 egation
DESCRIPTION:https://www2.bistum-augsburg.de/gottesdienste/heilige-messe-ans
 chliessend-konvent-der-marianischen-maennerkongregation_id1722147
DTSTART;TZID=Europe/Berlin:20260510T083000
DURATION:PT30M
LOCATION:St. Martin
END:VEVENT
END:VCALENDAR
