BEGIN:VCALENDAR
VERSION:2.0
PRODID:-//Sabre//Sabre VObject 4.5.8//EN
CALSCALE:GREGORIAN
BEGIN:VEVENT
UID:sabre-vobject-8b04fcfe-2254-4a35-9729-ae5c08ea5b43
DTSTAMP:20260424T085129Z
SUMMARY:RK
DESCRIPTION:https://www2.bistum-augsburg.de/gottesdienste/rk_id1722174
DTSTART;TZID=Europe/Berlin:20260512T183000
DURATION:PT30M
LOCATION:St. Laurentius\, Waldberger Straße 1\, 86399 Reinhartshausen
END:VEVENT
END:VCALENDAR
