BEGIN:VCALENDAR
VERSION:2.0
PRODID:-//Sabre//Sabre VObject 4.5.8//EN
CALSCALE:GREGORIAN
BEGIN:VEVENT
UID:sabre-vobject-260f72af-ad1c-4d37-b8ab-9d7ecb2d3757
DTSTAMP:20260425T014837Z
SUMMARY:Rosenkranz
DESCRIPTION:https://www2.bistum-augsburg.de/gottesdienste/rosenkranz_id1722
 197
DTSTART;TZID=Europe/Berlin:20260511T153000
DURATION:PT30M
LOCATION:St. Peter
END:VEVENT
END:VCALENDAR
