BEGIN:VCALENDAR
VERSION:2.0
PRODID:-//Sabre//Sabre VObject 4.5.8//EN
CALSCALE:GREGORIAN
BEGIN:VEVENT
UID:sabre-vobject-0eaade85-ac62-4429-9c1a-86f2dd67d360
DTSTAMP:20260425T105734Z
SUMMARY:Bittgang nach Pichl\nTreffpunkt am Feldkreuz des Trachtenvereins
DESCRIPTION:https://www2.bistum-augsburg.de/gottesdienste/bittgang-nach-pic
 hl-treffpunkt-am-feldkreuz-des-trachtenvereins_id1722202
DTSTART;TZID=Europe/Berlin:20260512T180000
DURATION:PT30M
LOCATION:St. Peter
END:VEVENT
END:VCALENDAR
