BEGIN:VCALENDAR
VERSION:2.0
PRODID:-//Sabre//Sabre VObject 4.5.8//EN
CALSCALE:GREGORIAN
BEGIN:VEVENT
UID:sabre-vobject-4ccf5135-7929-4143-8c2e-9209e8036796
DTSTAMP:20260424T131017Z
SUMMARY:Vorabendmesse
DESCRIPTION:https://www2.bistum-augsburg.de/gottesdienste/vorabendmesse_id1
 722207
DTSTART;TZID=Europe/Berlin:20260502T163000
DURATION:PT30M
LOCATION:St. Martin\, Kirchplatz 3\, 86701 Rohrenfels
END:VEVENT
END:VCALENDAR
