BEGIN:VCALENDAR
VERSION:2.0
PRODID:-//Sabre//Sabre VObject 4.5.8//EN
CALSCALE:GREGORIAN
BEGIN:VEVENT
UID:sabre-vobject-f80bdc1b-dfc2-4ae2-bc89-83983441fb97
DTSTAMP:20260425T113156Z
SUMMARY:Rosenkranz der Hausfrauen
DESCRIPTION:https://www2.bistum-augsburg.de/gottesdienste/rosenkranz-der-ha
 usfrauen_id1722209
DTSTART;TZID=Europe/Berlin:20260513T090000
DURATION:PT30M
LOCATION:St. Peter
END:VEVENT
END:VCALENDAR
