BEGIN:VCALENDAR
VERSION:2.0
PRODID:-//Sabre//Sabre VObject 4.5.8//EN
CALSCALE:GREGORIAN
BEGIN:VEVENT
UID:sabre-vobject-8b4c3e19-3425-4b87-bfc2-97b417c217fb
DTSTAMP:20260424T101411Z
SUMMARY:Bitttag
DESCRIPTION:https://www2.bistum-augsburg.de/gottesdienste/bitttag_id1722213
DTSTART;TZID=Europe/Berlin:20260511T183000
DURATION:PT30M
LOCATION:St. Radegundis
END:VEVENT
END:VCALENDAR
