BEGIN:VCALENDAR
VERSION:2.0
PRODID:-//Sabre//Sabre VObject 4.5.8//EN
CALSCALE:GREGORIAN
BEGIN:VEVENT
UID:sabre-vobject-6a39aef9-948a-452b-a98c-c793f65ef519
DTSTAMP:20260420T211532Z
SUMMARY:FEIER DER ERSTKOMMUNION
DESCRIPTION:https://www2.bistum-augsburg.de/gottesdienste/feier-der-erstkom
 munion_id1722234
DTSTART;TZID=Europe/Berlin:20260502T103000
DURATION:PT30M
LOCATION:St. Stephanus\, Waldstraße 4\, 86633 Sehensand
END:VEVENT
END:VCALENDAR
