BEGIN:VCALENDAR
VERSION:2.0
PRODID:-//Sabre//Sabre VObject 4.5.8//EN
CALSCALE:GREGORIAN
BEGIN:VEVENT
UID:sabre-vobject-a26c9062-0328-4af5-8c69-759aa6b6eb16
DTSTAMP:20260424T203017Z
SUMMARY:Rosenkranz
DESCRIPTION:https://www2.bistum-augsburg.de/gottesdienste/rosenkranz_id1722
 254
DTSTART;TZID=Europe/Berlin:20260504T153000
DURATION:PT30M
LOCATION:St. Peter
END:VEVENT
END:VCALENDAR
