BEGIN:VCALENDAR
VERSION:2.0
PRODID:-//Sabre//Sabre VObject 4.5.8//EN
CALSCALE:GREGORIAN
BEGIN:VEVENT
UID:sabre-vobject-3c5013ed-c1b1-48fb-a017-f3f64b84c6ed
DTSTAMP:20260423T035510Z
SUMMARY:Heilige Messe
DESCRIPTION:https://www2.bistum-augsburg.de/gottesdienste/heilige-messe_id1
 722260
DTSTART;TZID=Europe/Berlin:20260427T083000
DURATION:PT30M
LOCATION:St. Peter
END:VEVENT
END:VCALENDAR
