BEGIN:VCALENDAR
VERSION:2.0
PRODID:-//Sabre//Sabre VObject 4.5.8//EN
CALSCALE:GREGORIAN
BEGIN:VEVENT
UID:sabre-vobject-7cae6f6d-4f1d-4062-85bc-0d885e6b5c21
DTSTAMP:20260425T175636Z
SUMMARY:keine Heilige Messe wegen Vorabendmesse
DESCRIPTION:https://www2.bistum-augsburg.de/gottesdienste/keine-heilige-mes
 se-wegen-vorabendmesse_id1722274
DTSTART;TZID=Europe/Berlin:20260503T090000
DURATION:PT30M
LOCATION:Mariä Himmelfahrt\, Monheimer Straße 113\, 86633 Bittenbrunn
END:VEVENT
END:VCALENDAR
