BEGIN:VCALENDAR
VERSION:2.0
PRODID:-//Sabre//Sabre VObject 4.5.8//EN
CALSCALE:GREGORIAN
BEGIN:VEVENT
UID:sabre-vobject-0ebc7959-af70-48c8-8bad-fc4dfc14f7a7
DTSTAMP:20260419T152924Z
SUMMARY:Hausfrauen- u. Seniorenmesse\, anschl. Frühstück im Pfarrsaal
DESCRIPTION:https://www2.bistum-augsburg.de/gottesdienste/hausfrauen-u-seni
 orenmesse-anschl-fruehstueck-im-pfarrsaal_id1722281
DTSTART;TZID=Europe/Berlin:20260422T090000
DURATION:PT30M
LOCATION:Heilig Geist
END:VEVENT
END:VCALENDAR
