BEGIN:VCALENDAR
VERSION:2.0
PRODID:-//Sabre//Sabre VObject 4.5.8//EN
CALSCALE:GREGORIAN
BEGIN:VEVENT
UID:sabre-vobject-28b81037-f110-4cee-9de4-f29139251dcf
DTSTAMP:20260425T134913Z
SUMMARY:Abendmesse
DESCRIPTION:https://www2.bistum-augsburg.de/gottesdienste/abendmesse_id1722
 282
DTSTART;TZID=Europe/Berlin:20260424T180000
DURATION:PT30M
LOCATION:Heilig Geist
END:VEVENT
END:VCALENDAR
