BEGIN:VCALENDAR
VERSION:2.0
PRODID:-//Sabre//Sabre VObject 4.5.8//EN
CALSCALE:GREGORIAN
BEGIN:VEVENT
UID:sabre-vobject-adadc017-0e94-4875-88c2-78688dd259c0
DTSTAMP:20260424T233939Z
SUMMARY:Seniorennachmittag im Pfarrsaal Manching
DESCRIPTION:https://www2.bistum-augsburg.de/gottesdienste/seniorennachmitta
 g-im-pfarrsaal-manching_id1722310
DTSTART;TZID=Europe/Berlin:20260506T143000
DURATION:PT30M
LOCATION:St. Peter
END:VEVENT
END:VCALENDAR
