BEGIN:VCALENDAR
VERSION:2.0
PRODID:-//Sabre//Sabre VObject 4.5.8//EN
CALSCALE:GREGORIAN
BEGIN:VEVENT
UID:sabre-vobject-cb5e59c6-d95f-467d-b625-91b4819b544c
DTSTAMP:20260425T033403Z
SUMMARY:Abendstille mit Anbetung
DESCRIPTION:https://www2.bistum-augsburg.de/gottesdienste/abendstille-mit-a
 nbetung_id1722349
DTSTART;TZID=Europe/Berlin:20260515T190000
DURATION:PT30M
LOCATION:St. Martin
END:VEVENT
END:VCALENDAR
