BEGIN:VCALENDAR
VERSION:2.0
PRODID:-//Sabre//Sabre VObject 4.5.8//EN
CALSCALE:GREGORIAN
BEGIN:VEVENT
UID:sabre-vobject-00bad913-f2b7-4889-8db6-05fb9717d870
DTSTAMP:20260424T185454Z
SUMMARY:Bittmesse\; anschließend Flurumgang
DESCRIPTION:https://www2.bistum-augsburg.de/gottesdienste/bittmesse-anschli
 essend-flurumgang_id1722355
DTSTART;TZID=Europe/Berlin:20260513T180000
DURATION:PT30M
LOCATION:St. Georg\, Ortsstraße 19\, 89437 Unterbechingen
END:VEVENT
END:VCALENDAR
