BEGIN:VCALENDAR
VERSION:2.0
PRODID:-//Sabre//Sabre VObject 4.5.8//EN
CALSCALE:GREGORIAN
BEGIN:VEVENT
UID:sabre-vobject-2d1546ab-17b8-4a48-9f35-40d50f5662d3
DTSTAMP:20260424T235808Z
SUMMARY:Hl. Messe
DESCRIPTION:https://www2.bistum-augsburg.de/gottesdienste/hl-messe_id172235
 6
DTSTART;TZID=Europe/Berlin:20260516T180000
DURATION:PT30M
LOCATION:St. Georg\, Ortsstraße 19\, 89437 Unterbechingen
END:VEVENT
END:VCALENDAR
