BEGIN:VCALENDAR
VERSION:2.0
PRODID:-//Sabre//Sabre VObject 4.5.8//EN
CALSCALE:GREGORIAN
BEGIN:VEVENT
UID:sabre-vobject-ffed7ade-f205-4eef-9d60-88a3533e962c
DTSTAMP:20260424T103809Z
SUMMARY:Trauung
DESCRIPTION:https://www2.bistum-augsburg.de/gottesdienste/trauung_id1722380
DTSTART;TZID=Europe/Berlin:20260530T140000
DURATION:PT30M
LOCATION:Mariä Himmelfahrt\, Hauptstraße 11\, 89441 Obermedlingen
END:VEVENT
END:VCALENDAR
