BEGIN:VCALENDAR
VERSION:2.0
PRODID:-//Sabre//Sabre VObject 4.5.8//EN
CALSCALE:GREGORIAN
BEGIN:VEVENT
UID:sabre-vobject-1cc40dab-5b3d-4f51-bda7-c83a3177873a
DTSTAMP:20260425T003348Z
SUMMARY:Bittgang in GR von der Kirche zur Kapelle\, dort Hl. Messe
DESCRIPTION:https://www2.bistum-augsburg.de/gottesdienste/bittgang-in-gr-vo
 n-der-kirche-zur-kapelle-dort-hl-messe_id1722392
DTSTART;TZID=Europe/Berlin:20260512T191000
DURATION:PT30M
LOCATION:St. Stephan
END:VEVENT
END:VCALENDAR
