BEGIN:VCALENDAR
VERSION:2.0
PRODID:-//Sabre//Sabre VObject 4.5.8//EN
CALSCALE:GREGORIAN
BEGIN:VEVENT
UID:sabre-vobject-0c7820e7-c601-4809-8b1e-3371c39c31cd
DTSTAMP:20260424T074852Z
SUMMARY:Tauffeier
DESCRIPTION:https://www2.bistum-augsburg.de/gottesdienste/tauffeier_id17224
 01
DTSTART;TZID=Europe/Berlin:20260510T113000
DURATION:PT30M
LOCATION:St. Georg\, Ortsstraße 19\, 89437 Unterbechingen
END:VEVENT
END:VCALENDAR
