BEGIN:VCALENDAR
VERSION:2.0
PRODID:-//Sabre//Sabre VObject 4.5.8//EN
CALSCALE:GREGORIAN
BEGIN:VEVENT
UID:sabre-vobject-d88cd28e-39e4-4a5b-9900-af519652cbd7
DTSTAMP:20260420T040507Z
SUMMARY:Treffpunkt Friedhof Echenbrunn: Fußwallfahrt nach Buggenhofen
DESCRIPTION:https://www2.bistum-augsburg.de/gottesdienste/treffpunkt-friedh
 of-echenbrunn-fusswallfahrt-nach-buggenhofen_id1722417
DTSTART;TZID=Europe/Berlin:20260502T040000
DURATION:PT30M
LOCATION:St. Martin
END:VEVENT
END:VCALENDAR
