BEGIN:VCALENDAR
VERSION:2.0
PRODID:-//Sabre//Sabre VObject 4.5.8//EN
CALSCALE:GREGORIAN
BEGIN:VEVENT
UID:sabre-vobject-9e66d7bf-0ae8-4813-98dc-7233a21b055b
DTSTAMP:20260425T105817Z
SUMMARY:Hl. Messe für die verst. Angehörigen der Pfarreiengemeinschaft un
 d im Gedenken an
DESCRIPTION:https://www2.bistum-augsburg.de/gottesdienste/hl-messe-fuer-die
 -verst-angehoerigen-der-pfarreiengemeinschaft-und-im-gedenken-an_id1722418
DTSTART;TZID=Europe/Berlin:20260503T100000
DURATION:PT30M
LOCATION:St. Martin
END:VEVENT
END:VCALENDAR
