BEGIN:VCALENDAR
VERSION:2.0
PRODID:-//Sabre//Sabre VObject 4.5.8//EN
CALSCALE:GREGORIAN
BEGIN:VEVENT
UID:sabre-vobject-02b0e948-ba5e-4328-b563-dd73859f90b2
DTSTAMP:20260424T043248Z
SUMMARY:Friedensrosenkranz und Beichtgelegenheit
DESCRIPTION:https://www2.bistum-augsburg.de/gottesdienste/friedensrosenkran
 z-und-beichtgelegenheit_id1722426
DTSTART;TZID=Europe/Berlin:20260430T163000
DURATION:PT30M
LOCATION:St. Justina
END:VEVENT
END:VCALENDAR
