BEGIN:VCALENDAR
VERSION:2.0
PRODID:-//Sabre//Sabre VObject 4.5.8//EN
CALSCALE:GREGORIAN
BEGIN:VEVENT
UID:sabre-vobject-af872ad6-2a70-45e6-ba74-5a8cfc720e97
DTSTAMP:20260419T204949Z
SUMMARY:Spitalkirche: Hl. Messe
DESCRIPTION:https://www2.bistum-augsburg.de/gottesdienste/spitalkirche-hl-m
 esse_id1722430
DTSTART;TZID=Europe/Berlin:20260507T100000
DURATION:PT30M
LOCATION:St. Martin
END:VEVENT
END:VCALENDAR
