BEGIN:VCALENDAR
VERSION:2.0
PRODID:-//Sabre//Sabre VObject 4.5.8//EN
CALSCALE:GREGORIAN
BEGIN:VEVENT
UID:sabre-vobject-1fd8c711-a2ce-4e80-9a2c-673d463919bb
DTSTAMP:20260423T160029Z
SUMMARY:Fußwallfahrt nach Violau\, dort um 7.30 Uhr Festgottesdienst
DESCRIPTION:https://www2.bistum-augsburg.de/gottesdienste/fusswallfahrt-nac
 h-violau-dort-um-7-30-uhr-festgottesdienst_id1722431
DTSTART;TZID=Europe/Berlin:20260501T050000
DURATION:PT30M
LOCATION:St. Martin
END:VEVENT
END:VCALENDAR
