BEGIN:VCALENDAR
VERSION:2.0
PRODID:-//Sabre//Sabre VObject 4.5.8//EN
CALSCALE:GREGORIAN
BEGIN:VEVENT
UID:sabre-vobject-cc2402ed-aeca-4d13-8965-bd273cae85b0
DTSTAMP:20260426T013111Z
SUMMARY:Rosenkranzgebet
DESCRIPTION:https://www2.bistum-augsburg.de/gottesdienste/rosenkranzgebet_i
 d1722440
DTSTART;TZID=Europe/Berlin:20260427T162000
DURATION:PT30M
LOCATION:St. Justina
END:VEVENT
END:VCALENDAR
