BEGIN:VCALENDAR
VERSION:2.0
PRODID:-//Sabre//Sabre VObject 4.5.8//EN
CALSCALE:GREGORIAN
BEGIN:VEVENT
UID:sabre-vobject-8fb1907c-c8e5-4ae5-b545-cdf1c3cb4aaf
DTSTAMP:20260425T203723Z
SUMMARY:Treffpunkt an der Kirche
DESCRIPTION:https://www2.bistum-augsburg.de/gottesdienste/treffpunkt-an-der
 -kirche_id1722444
DTSTART;TZID=Europe/Berlin:20260513T183000
DURATION:PT30M
LOCATION:St. Bartholomäus\, Barthelmarktstr.1\, 85077 Manching
END:VEVENT
END:VCALENDAR
