BEGIN:VCALENDAR
VERSION:2.0
PRODID:-//Sabre//Sabre VObject 4.5.8//EN
CALSCALE:GREGORIAN
BEGIN:VEVENT
UID:sabre-vobject-dd17afa2-521e-4e62-83b6-6d2cf5d2934a
DTSTAMP:20260424T081458Z
SUMMARY:Heilige Messe bei der Antoniusquelle
DESCRIPTION:https://www2.bistum-augsburg.de/gottesdienste/heilige-messe-bei
 -der-antoniusquelle_id1722469
DTSTART;TZID=Europe/Berlin:20260514T101500
DURATION:PT30M
LOCATION:St. Andreas
END:VEVENT
END:VCALENDAR
