BEGIN:VCALENDAR
VERSION:2.0
PRODID:-//Sabre//Sabre VObject 4.5.8//EN
CALSCALE:GREGORIAN
BEGIN:VEVENT
UID:sabre-vobject-f45b0d87-e0d0-4dc4-9985-1bc84b5d7e27
DTSTAMP:20260426T013123Z
SUMMARY:Rosenkranzgebet
DESCRIPTION:https://www2.bistum-augsburg.de/gottesdienste/rosenkranzgebet_i
 d1722475
DTSTART;TZID=Europe/Berlin:20260425T162000
DURATION:PT30M
LOCATION:St. Justina
END:VEVENT
END:VCALENDAR
