BEGIN:VCALENDAR
VERSION:2.0
PRODID:-//Sabre//Sabre VObject 4.5.8//EN
CALSCALE:GREGORIAN
BEGIN:VEVENT
UID:sabre-vobject-f1690446-9260-4aae-a247-84a4af8f9a9e
DTSTAMP:20260424T225139Z
SUMMARY:Maiandacht
DESCRIPTION:https://www2.bistum-augsburg.de/gottesdienste/maiandacht_id1722
 485
DTSTART;TZID=Europe/Berlin:20260517T180000
DURATION:PT30M
LOCATION:St. Martin\, Kirchplatz 8\, 85107 Baar-Ebenhausen
END:VEVENT
END:VCALENDAR
