BEGIN:VCALENDAR
VERSION:2.0
PRODID:-//Sabre//Sabre VObject 4.5.8//EN
CALSCALE:GREGORIAN
BEGIN:VEVENT
UID:sabre-vobject-baad6769-6749-4067-9e3a-2d590d915267
DTSTAMP:20260423T212433Z
SUMMARY:Rosenkranzgebet
DESCRIPTION:https://www2.bistum-augsburg.de/gottesdienste/rosenkranzgebet_i
 d1722486
DTSTART;TZID=Europe/Berlin:20260501T162000
DURATION:PT30M
LOCATION:St. Justina
END:VEVENT
END:VCALENDAR
