BEGIN:VCALENDAR
VERSION:2.0
PRODID:-//Sabre//Sabre VObject 4.5.8//EN
CALSCALE:GREGORIAN
BEGIN:VEVENT
UID:sabre-vobject-e4b4ffa6-2cfe-4d74-9901-5c25b84a5274
DTSTAMP:20260424T225224Z
SUMMARY:Heilige Messe - Wir beten auch für unsere Geburtstags-Jubilare (Ma
 i).
DESCRIPTION:https://www2.bistum-augsburg.de/gottesdienste/heilige-messe-wir
 -beten-auch-fuer-unsere-geburtstags-jubilare-mai_id1722502
DTSTART;TZID=Europe/Berlin:20260531T084500
DURATION:PT30M
LOCATION:St. Bartholomäus\, Barthelmarktstr.1\, 85077 Manching
END:VEVENT
END:VCALENDAR
